BEGIN:VCALENDAR
VERSION:2.0
PRODID:-//Comitato Scientifico del CNAPPC - ECPv6.15.20//NONSGML v1.0//EN
CALSCALE:GREGORIAN
METHOD:PUBLISH
X-WR-CALNAME:Comitato Scientifico del CNAPPC
X-ORIGINAL-URL:https://cnappc.org/it/
X-WR-CALDESC:Eventi per Comitato Scientifico del CNAPPC
REFRESH-INTERVAL;VALUE=DURATION:PT1H
X-Robots-Tag:noindex
X-PUBLISHED-TTL:PT1H
BEGIN:VTIMEZONE
TZID:Europe/Rome
BEGIN:DAYLIGHT
TZOFFSETFROM:+0100
TZOFFSETTO:+0200
TZNAME:CEST
DTSTART:20240331T010000
END:DAYLIGHT
BEGIN:STANDARD
TZOFFSETFROM:+0200
TZOFFSETTO:+0100
TZNAME:CET
DTSTART:20241027T010000
END:STANDARD
BEGIN:DAYLIGHT
TZOFFSETFROM:+0100
TZOFFSETTO:+0200
TZNAME:CEST
DTSTART:20250330T010000
END:DAYLIGHT
BEGIN:STANDARD
TZOFFSETFROM:+0200
TZOFFSETTO:+0100
TZNAME:CET
DTSTART:20251026T010000
END:STANDARD
BEGIN:DAYLIGHT
TZOFFSETFROM:+0100
TZOFFSETTO:+0200
TZNAME:CEST
DTSTART:20260329T010000
END:DAYLIGHT
BEGIN:STANDARD
TZOFFSETFROM:+0200
TZOFFSETTO:+0100
TZNAME:CET
DTSTART:20261025T010000
END:STANDARD
BEGIN:DAYLIGHT
TZOFFSETFROM:+0100
TZOFFSETTO:+0200
TZNAME:CEST
DTSTART:20270328T010000
END:DAYLIGHT
BEGIN:STANDARD
TZOFFSETFROM:+0200
TZOFFSETTO:+0100
TZNAME:CET
DTSTART:20271031T010000
END:STANDARD
END:VTIMEZONE
BEGIN:VEVENT
DTSTART;TZID=Europe/Rome:20260324T091500
DTEND;TZID=Europe/Rome:20260324T173000
DTSTAMP:20260423T010645
CREATED:20260311T105911Z
LAST-MODIFIED:20260311T110551Z
UID:3880-1774343700-1774373400@cnappc.org
SUMMARY:Nuovi paradigmi della vita urbana: prossimità\, benessere nelle città e nei territori
DESCRIPTION:CONFERENZA\nROMA\nCENTRO CONGRESSI ROSPIGLIOSI\nVia Ventiquattro Maggio\, 43\, 00187 Roma RM\nRead more…
URL:https://cnappc.org/it/agenda/nuovi-paradigmi-della-vita-urbana-prossimita-benessere-nelle-citta-e-nei-territori/
LOCATION:Centro Congressi Rospigliosi\, ROMA\, Via Ventiquattro Maggio\, 43\, ROMA\, Italy
END:VEVENT
BEGIN:VEVENT
DTSTART;VALUE=DATE:20251031
DTEND;VALUE=DATE:20251101
DTSTAMP:20260423T010645
CREATED:20251031T123403Z
LAST-MODIFIED:20251031T123403Z
UID:3708-1761868800-1761955199@cnappc.org
SUMMARY:World Cities Day 2025
DESCRIPTION:People-centred Smart Cities\nBogotà
URL:https://cnappc.org/it/agenda/world-cities-day-2025/
END:VEVENT
BEGIN:VEVENT
DTSTART;TZID=Europe/Rome:20250904T080000
DTEND;TZID=Europe/Rome:20250905T170000
DTSTAMP:20260423T010645
CREATED:20250831T140645Z
LAST-MODIFIED:20250902T092622Z
UID:3010-1756972800-1757091600@cnappc.org
SUMMARY:Verso prossimità urbane sostenibili
DESCRIPTION:Conferenza Internazionale sulle Prossimità Urbane Sostenibili4 – 5 settembre 2025Hôtel de Ville di Parigi / Università della SorbonaParigi\, Francia
URL:https://cnappc.org/it/agenda/verso-prossimita-urbane-sostenibili/
LOCATION:Académie du Climat\, Paris City Hall\, 2 Pl. Baudoyer\, Paris\, 75004\, France
END:VEVENT
END:VCALENDAR